BEGIN:VCALENDAR
VERSION:2.0
PRODID:-//Sportwerkgever - ECPv5.16.4.1//NONSGML v1.0//EN
CALSCALE:GREGORIAN
METHOD:PUBLISH
X-WR-CALNAME:Sportwerkgever
X-ORIGINAL-URL:https://www.sportwerkgever.nl
X-WR-CALDESC:Evenementen voor Sportwerkgever
BEGIN:VTIMEZONE
TZID:Europe/Amsterdam
BEGIN:DAYLIGHT
TZOFFSETFROM:+0100
TZOFFSETTO:+0200
TZNAME:CEST
DTSTART:20260329T010000
END:DAYLIGHT
BEGIN:STANDARD
TZOFFSETFROM:+0200
TZOFFSETTO:+0100
TZNAME:CET
DTSTART:20261025T010000
END:STANDARD
END:VTIMEZONE
BEGIN:VEVENT
DTSTART;TZID=Europe/Amsterdam:20260521T100000
DTEND;TZID=Europe/Amsterdam:20260521T120000
DTSTAMP:20260420T051654
CREATED:20260109T133335Z
LAST-MODIFIED:20260407T112657Z
UID:31563-1779357600-1779364800@www.sportwerkgever.nl
SUMMARY:P&O Platform
DESCRIPTION:Het P&O Platform is een samenwerking tussen alle HR-medewerkers van onze aangesloten sportorganisaties. We organiseren elk kwartaal een bijeenkomst\, waar we ingaan op actuele thema’s vanuit onze eigen organisaties en met HR sparren over vraagstukken bij onze leden. Wil je hiervoor uitgenodigd worden? Neem dan contact op met Frank van Gene\, via f.vangene@sportwerkgever.nl.
URL:https://www.sportwerkgever.nl/agenda/po-platform-3/
END:VEVENT
END:VCALENDAR